BEGIN:VCALENDAR
CALSCALE:GREGORIAN
PRODID:-//Ben Fortuna//iCal4j 1.0//EN
VERSION:2.0
BEGIN:VEVENT
DTSTAMP:20260120T190010Z
DTSTART:20260121T090000
DTEND:20260121T110000
SUMMARY:H. 567 - An act relating to unclaimed property\, State retirement
  systems\, and capital debt\n\nWitness testimony\n\nEric Henry\, Chief I
 nvestment Officer\, Vermont Pension Investment Commission - Zoom\n\nRebe
 cca Wasserman\, Director of Economic Empowerment\, Office of the State T
 reasurer\n\nPeter Trombley\, Special Advisor to the Treasurer\, Office o
 f the State Treasurer\n\nCameron Wood\, Legislative Counsel\, Office of 
 Legislative Counsel - Room M106
TZID:America/New_York
UID:20260120T190042Z-uidGen@richgoldman-357e73
END:VEVENT
BEGIN:VALARM
TRIGGER:-PT15M
ACTION:DISPLAY
DESCRIPTION:H. 567 - An act relating to unclaimed property\, State retire
 ment systems\, and capital debt\n\nWitness testimony\n\nEric Henry\, Chi
 ef Investment Officer\, Vermont Pension Investment Commission - Zoom\n\n
 Rebecca Wasserman\, Director of Economic Empowerment\, Office of the Sta
 te Treasurer\n\nPeter Trombley\, Special Advisor to the Treasurer\, Offi
 ce of the State Treasurer\n\nCameron Wood\, Legislative Counsel\, Office
  of Legislative Counsel - Room M106
END:VALARM
END:VCALENDAR
