BEGIN:VCALENDAR
CALSCALE:GREGORIAN
PRODID:-//Ben Fortuna//iCal4j 1.0//EN
VERSION:2.0
BEGIN:VEVENT
DTSTAMP:20260120T190010Z
DTSTART:20260121T090000
DTEND:20260121T110000
SUMMARY:S. 209 - An act relating to prohibiting civil arrest in sensitive
  locations\n\nDiscussion and Markup\n\nRik Sehgal\, Legislative Counsel\
 , Office of Legislative Counsel\n\nCharlie Gliserman\, Director of Polic
 y\, Vermont Network Against Domestic & Sexual Violence\n\nLise Sparrow\,
  Reverend\, Vermont Interfaith Action - Room 1
TZID:America/New_York
UID:20260120T190048Z-uidGen@richgoldman-357e73
END:VEVENT
BEGIN:VALARM
TRIGGER:-PT15M
ACTION:DISPLAY
DESCRIPTION:S. 209 - An act relating to prohibiting civil arrest in sensi
 tive locations\n\nDiscussion and Markup\n\nRik Sehgal\, Legislative Coun
 sel\, Office of Legislative Counsel\n\nCharlie Gliserman\, Director of P
 olicy\, Vermont Network Against Domestic & Sexual Violence\n\nLise Sparr
 ow\, Reverend\, Vermont Interfaith Action - Room 1
END:VALARM
END:VCALENDAR
