BEGIN:VCALENDAR
CALSCALE:GREGORIAN
PRODID:-//Ben Fortuna//iCal4j 1.0//EN
VERSION:2.0
BEGIN:VEVENT
DTSTAMP:20260120T190010Z
DTSTART:20260121T091500
DTEND:20260121T111500
SUMMARY:H. 525 - An act relating to insurance coverage for motor vehicle 
 glass\n\nIntroduction\n\nRep. Anthony "Tony" Micklus\, Sponsor\, House C
 ommittee on Commerce and Economic Development - Room 35
TZID:America/New_York
UID:20260120T190051Z-uidGen@richgoldman-357e73
END:VEVENT
BEGIN:VALARM
TRIGGER:-PT15M
ACTION:DISPLAY
DESCRIPTION:H. 525 - An act relating to insurance coverage for motor vehi
 cle glass\n\nIntroduction\n\nRep. Anthony "Tony" Micklus\, Sponsor\, Hou
 se Committee on Commerce and Economic Development - Room 35
END:VALARM
END:VCALENDAR
