BEGIN:VCALENDAR
CALSCALE:GREGORIAN
PRODID:-//Ben Fortuna//iCal4j 1.0//EN
VERSION:2.0
BEGIN:VEVENT
DTSTAMP:20260121T160010Z
DTSTART:20260121T091000
DTEND:20260121T111000
SUMMARY:S. 209 - An act relating to prohibiting civil arrest in sensitive
  locations\n\nDiscussion and Markup\n\nLise Sparrow\, Reverend\, Vermont
  Interfaith Action\n\nCharlie Gliserman\, Director of Policy\, Vermont N
 etwork Against Domestic & Sexual Violence\n\nRik Sehgal\, Legislative Co
 unsel\, Office of Legislative Counsel - Room 1
TZID:America/New_York
UID:20260121T160019Z-uidGen@richgoldman-357e73
END:VEVENT
BEGIN:VALARM
TRIGGER:-PT15M
ACTION:DISPLAY
DESCRIPTION:S. 209 - An act relating to prohibiting civil arrest in sensi
 tive locations\n\nDiscussion and Markup\n\nLise Sparrow\, Reverend\, Ver
 mont Interfaith Action\n\nCharlie Gliserman\, Director of Policy\, Vermo
 nt Network Against Domestic & Sexual Violence\n\nRik Sehgal\, Legislativ
 e Counsel\, Office of Legislative Counsel - Room 1
END:VALARM
END:VCALENDAR
