BEGIN:VCALENDAR
CALSCALE:GREGORIAN
PRODID:-//Ben Fortuna//iCal4j 1.0//EN
VERSION:2.0
BEGIN:VEVENT
DTSTAMP:20260120T190010Z
DTSTART:20260121T093000
DTEND:20260121T113000
SUMMARY:H. 526 - An act relating to driver safety courses and discounts f
 or motor vehicle insurance\n\nIntroduction\n\nRep. Anne B. Donahue\, Spo
 nsor\, House Committee on Human Services - Room 35
TZID:America/New_York
UID:20260120T190053Z-uidGen@richgoldman-357e73
END:VEVENT
BEGIN:VALARM
TRIGGER:-PT15M
ACTION:DISPLAY
DESCRIPTION:H. 526 - An act relating to driver safety courses and discoun
 ts for motor vehicle insurance\n\nIntroduction\n\nRep. Anne B. Donahue\,
  Sponsor\, House Committee on Human Services - Room 35
END:VALARM
END:VCALENDAR
