BEGIN:VCALENDAR
CALSCALE:GREGORIAN
PRODID:-//Ben Fortuna//iCal4j 1.0//EN
VERSION:2.0
BEGIN:VEVENT
DTSTAMP:20260121T150010Z
DTSTART:20260121T093000
DTEND:20260121T113000
SUMMARY:Committee Discussion\n\nReports Due - Room 34
TZID:America/New_York
UID:20260121T150031Z-uidGen@richgoldman-357e73
END:VEVENT
BEGIN:VALARM
TRIGGER:-PT15M
ACTION:DISPLAY
DESCRIPTION:Committee Discussion\n\nReports Due - Room 34
END:VALARM
END:VCALENDAR
