BEGIN:VCALENDAR
CALSCALE:GREGORIAN
PRODID:-//Ben Fortuna//iCal4j 1.0//EN
VERSION:2.0
BEGIN:VEVENT
DTSTAMP:20260121T160010Z
DTSTART:20260121T093500
DTEND:20260121T113500
SUMMARY:Lake Champlain's Future\n\n2026 Action Plan of the VT Citizen's A
 dvisory Committee on the Future of Lake Champlain\n\nKarina Dailey\, Cha
 ir\, Vermont Citizens Advisory Committee\n\nDenise Smith\, Co-Chair\, Ve
 rmont Citizens Advisory Committee\n\nAlison Spasyk\, Member\, Vermont Ci
 tizens Advisory Committee\n\nBreck Bowden\, Vermont Citizens Advisory Co
 mmittee - Zoom\n\nAndrew Milliken\, Vermont Citizens Advisory Committee\
 n\nBob Fischer\, Water Facility Operator\, Vermont Citizens Advisory Com
 mittee\n\nLori Fisher\, Member\, Vermont Citizens Advisory Committee - Z
 oom - Room 49
TZID:America/New_York
UID:20260121T160020Z-uidGen@richgoldman-357e73
END:VEVENT
BEGIN:VALARM
TRIGGER:-PT15M
ACTION:DISPLAY
DESCRIPTION:Lake Champlain's Future\n\n2026 Action Plan of the VT Citizen
 's Advisory Committee on the Future of Lake Champlain\n\nKarina Dailey\,
  Chair\, Vermont Citizens Advisory Committee\n\nDenise Smith\, Co-Chair\
 , Vermont Citizens Advisory Committee\n\nAlison Spasyk\, Member\, Vermon
 t Citizens Advisory Committee\n\nBreck Bowden\, Vermont Citizens Advisor
 y Committee - Zoom\n\nAndrew Milliken\, Vermont Citizens Advisory Commit
 tee\n\nBob Fischer\, Water Facility Operator\, Vermont Citizens Advisory
  Committee\n\nLori Fisher\, Member\, Vermont Citizens Advisory Committee
  - Zoom - Room 49
END:VALARM
END:VCALENDAR
