BEGIN:VCALENDAR
CALSCALE:GREGORIAN
PRODID:-//Ben Fortuna//iCal4j 1.0//EN
VERSION:2.0
BEGIN:VEVENT
DTSTAMP:20260121T160010Z
DTSTART:20260121T094000
DTEND:20260121T114000
SUMMARY:H. 699 - An act relating to consumer protection from abusive acts
  or practices\n\nIntroduction\n\nRep. Monique Priestley\, Sponsor\, Hous
 e Committee on Commerce and Economic Development - Room 35
TZID:America/New_York
UID:20260121T160022Z-uidGen@richgoldman-357e73
END:VEVENT
BEGIN:VALARM
TRIGGER:-PT15M
ACTION:DISPLAY
DESCRIPTION:H. 699 - An act relating to consumer protection from abusive 
 acts or practices\n\nIntroduction\n\nRep. Monique Priestley\, Sponsor\, 
 House Committee on Commerce and Economic Development - Room 35
END:VALARM
END:VCALENDAR
