BEGIN:VCALENDAR
CALSCALE:GREGORIAN
PRODID:-//Ben Fortuna//iCal4j 1.0//EN
VERSION:2.0
BEGIN:VEVENT
DTSTAMP:20260121T150010Z
DTSTART:20260121T094500
DTEND:20260121T114500
SUMMARY:S. 157 - An act relating to recovery residence certification\n\nW
 alkthrough\n\nKatie McLinn\, Legislative Counsel\, Office of Legislative
  Counsel\n\nEmily Trutor\, Director of Substance Use Disorders\, Departm
 ent of Health\n\nDavid Riegel\, Vermont Foundation of Recovery - Zoom - 
 Room 17
TZID:America/New_York
UID:20260121T150033Z-uidGen@richgoldman-357e73
END:VEVENT
BEGIN:VALARM
TRIGGER:-PT15M
ACTION:DISPLAY
DESCRIPTION:S. 157 - An act relating to recovery residence certification\
 n\nWalkthrough\n\nKatie McLinn\, Legislative Counsel\, Office of Legisla
 tive Counsel\n\nEmily Trutor\, Director of Substance Use Disorders\, Dep
 artment of Health\n\nDavid Riegel\, Vermont Foundation of Recovery - Zoo
 m - Room 17
END:VALARM
END:VCALENDAR
