BEGIN:VCALENDAR
CALSCALE:GREGORIAN
PRODID:-//Ben Fortuna//iCal4j 1.0//EN
VERSION:2.0
BEGIN:VEVENT
DTSTAMP:20260121T160010Z
DTSTART:20260121T101000
DTEND:20260121T121000
SUMMARY:Vermont Farm Bureau\n\nMary White\, President\, Vermont Farm Bure
 au\n\nAmber Perry\, Policy Director\, Vermont Farm Bureau - Room 28
TZID:America/New_York
UID:20260121T160040Z-uidGen@richgoldman-357e73
END:VEVENT
BEGIN:VALARM
TRIGGER:-PT15M
ACTION:DISPLAY
DESCRIPTION:Vermont Farm Bureau\n\nMary White\, President\, Vermont Farm 
 Bureau\n\nAmber Perry\, Policy Director\, Vermont Farm Bureau - Room 28
END:VALARM
END:VCALENDAR
