BEGIN:VCALENDAR
CALSCALE:GREGORIAN
PRODID:-//Ben Fortuna//iCal4j 1.0//EN
VERSION:2.0
BEGIN:VEVENT
DTSTAMP:20260120T220010Z
DTSTART:20260121T100000
DTEND:20260121T120000
SUMMARY:Committee Work Time\n\nThe committee will work individually on th
 e Reports Repeal survey. This will not be live streamed. - Room 9
TZID:America/New_York
UID:20260120T220027Z-uidGen@richgoldman-357e73
END:VEVENT
BEGIN:VALARM
TRIGGER:-PT15M
ACTION:DISPLAY
DESCRIPTION:Committee Work Time\n\nThe committee will work individually o
 n the Reports Repeal survey. This will not be live streamed. - Room 9
END:VALARM
END:VCALENDAR
