BEGIN:VCALENDAR
CALSCALE:GREGORIAN
PRODID:-//Ben Fortuna//iCal4j 1.0//EN
VERSION:2.0
BEGIN:VEVENT
DTSTAMP:20260121T160010Z
DTSTART:20260121T094500
DTEND:20260121T114500
SUMMARY:S. 212 - An act relating to potable water supply and wastewater s
 ystem connections\n\nChris Cochran\, Director of Community Planning Revi
 talization\, Department of Housing and Community Development\n\nJon Grov
 eman\, Policy and Water Program Director\, Vermont Natural Resources Cou
 ncil\n\nJosh Hanford\, Director of Intergovernmental Affairs\, Vermont L
 eague of Cities and Towns\n\nBryan Redmond\, Agency of Natural Resources
  - Room 8
TZID:America/New_York
UID:20260121T160026Z-uidGen@richgoldman-357e73
END:VEVENT
BEGIN:VALARM
TRIGGER:-PT15M
ACTION:DISPLAY
DESCRIPTION:S. 212 - An act relating to potable water supply and wastewat
 er system connections\n\nChris Cochran\, Director of Community Planning 
 Revitalization\, Department of Housing and Community Development\n\nJon 
 Groveman\, Policy and Water Program Director\, Vermont Natural Resources
  Council\n\nJosh Hanford\, Director of Intergovernmental Affairs\, Vermo
 nt League of Cities and Towns\n\nBryan Redmond\, Agency of Natural Resou
 rces - Room 8
END:VALARM
END:VCALENDAR
