BEGIN:VCALENDAR
CALSCALE:GREGORIAN
PRODID:-//Ben Fortuna//iCal4j 1.0//EN
VERSION:2.0
BEGIN:VEVENT
DTSTAMP:20260120T190010Z
DTSTART:20260121T103000
DTEND:20260121T123000
SUMMARY:Agency of Transportation FY27 Budget Overview\n\nDepartment of Mo
 tor Vehicles Budget. This is a Joint Meeting with House Transportation a
 nd will be held in Room 10. It will be livestreamed here: https://legisl
 ature.vermont.gov/committee/streaming/senate-transportation\n\nAndrew Co
 llier\, Commissioner\, Department of Motor Vehicles\n\nRenee Cota\, Fina
 nce Director\, Department of Motor Vehicles - Room 3
TZID:America/New_York
UID:20260120T190111Z-uidGen@richgoldman-357e73
END:VEVENT
BEGIN:VALARM
TRIGGER:-PT15M
ACTION:DISPLAY
DESCRIPTION:Agency of Transportation FY27 Budget Overview\n\nDepartment o
 f Motor Vehicles Budget. This is a Joint Meeting with House Transportati
 on and will be held in Room 10. It will be livestreamed here: https://le
 gislature.vermont.gov/committee/streaming/senate-transportation\n\nAndre
 w Collier\, Commissioner\, Department of Motor Vehicles\n\nRenee Cota\, 
 Finance Director\, Department of Motor Vehicles - Room 3
END:VALARM
END:VCALENDAR
