BEGIN:VCALENDAR
CALSCALE:GREGORIAN
PRODID:-//Ben Fortuna//iCal4j 1.0//EN
VERSION:2.0
BEGIN:VEVENT
DTSTAMP:20260120T190010Z
DTSTART:20260121T100000
DTEND:20260121T120000
SUMMARY:H. 639 - An act relating to genetic data privacy\n\nIntroduction\
 n\nRep. Robin Scheu\, Sponsor\, House Committee on Appropriations - Room
  35
TZID:America/New_York
UID:20260120T190057Z-uidGen@richgoldman-357e73
END:VEVENT
BEGIN:VALARM
TRIGGER:-PT15M
ACTION:DISPLAY
DESCRIPTION:H. 639 - An act relating to genetic data privacy\n\nIntroduct
 ion\n\nRep. Robin Scheu\, Sponsor\, House Committee on Appropriations - 
 Room 35
END:VALARM
END:VCALENDAR
