BEGIN:VCALENDAR
CALSCALE:GREGORIAN
PRODID:-//Ben Fortuna//iCal4j 1.0//EN
VERSION:2.0
BEGIN:VEVENT
DTSTAMP:20260121T070010Z
DTSTART:20260121T100000
DTEND:20260121T120000
SUMMARY:Committee Discussion\n\nAgenda planning\, bill discussion - Room 
 31
TZID:America/New_York
UID:20260121T070011Z-uidGen@richgoldman-357e73
END:VEVENT
BEGIN:VALARM
TRIGGER:-PT15M
ACTION:DISPLAY
DESCRIPTION:Committee Discussion\n\nAgenda planning\, bill discussion - R
 oom 31
END:VALARM
END:VCALENDAR
