BEGIN:VCALENDAR
CALSCALE:GREGORIAN
PRODID:-//Ben Fortuna//iCal4j 1.0//EN
VERSION:2.0
BEGIN:VEVENT
DTSTAMP:20260120T150010Z
DTSTART:20260121T100000
DTEND:20260121T120000
SUMMARY:H. 549 - An act relating to eligibility of detainees to obtain a 
 State-issued nondriver identification card\n\nWalk-through and current s
 tatute\n\nMatthew Rousseau\, Deputy Commissioner\, Department of Motor V
 ehicles\n\nNancy Prescott\, Director of Operations\, Department of Motor
  Vehicles\n\nHillary Chutter-Ames\, Legislative Counsel\, Office of Legi
 slative Counsel\n\nMonique Sullivan\, Facilities Operations Manager\, De
 partment of Corrections - Room 34
TZID:America/New_York
UID:20260120T150047Z-uidGen@richgoldman-357e73
END:VEVENT
BEGIN:VALARM
TRIGGER:-PT15M
ACTION:DISPLAY
DESCRIPTION:H. 549 - An act relating to eligibility of detainees to obtai
 n a State-issued nondriver identification card\n\nWalk-through and curre
 nt statute\n\nMatthew Rousseau\, Deputy Commissioner\, Department of Mot
 or Vehicles\n\nNancy Prescott\, Director of Operations\, Department of M
 otor Vehicles\n\nHillary Chutter-Ames\, Legislative Counsel\, Office of 
 Legislative Counsel\n\nMonique Sullivan\, Facilities Operations Manager\
 , Department of Corrections - Room 34
END:VALARM
END:VCALENDAR
