BEGIN:VCALENDAR
CALSCALE:GREGORIAN
PRODID:-//Ben Fortuna//iCal4j 1.0//EN
VERSION:2.0
BEGIN:VEVENT
DTSTAMP:20260121T210010Z
DTSTART:20260121T102000
DTEND:20260121T122000
SUMMARY:Agency of Transportation FY27 Budget\n\nDepartment of Motor Vehic
 les Budget. This is a joint meeting with Senate Transportation and will 
 be in Room 10 and livestreamed on the House Transportation Youtube Chann
 el.\n\nAndrew Collier\, Commissioner\, Department of Motor Vehicles\n\nR
 enee Cota\, Finance Director\, Department of Motor Vehicles - Room 43
TZID:America/New_York
UID:20260121T210011Z-uidGen@richgoldman-357e73
END:VEVENT
BEGIN:VALARM
TRIGGER:-PT15M
ACTION:DISPLAY
DESCRIPTION:Agency of Transportation FY27 Budget\n\nDepartment of Motor V
 ehicles Budget. This is a joint meeting with Senate Transportation and w
 ill be in Room 10 and livestreamed on the House Transportation Youtube C
 hannel.\n\nAndrew Collier\, Commissioner\, Department of Motor Vehicles\
 n\nRenee Cota\, Finance Director\, Department of Motor Vehicles - Room 4
 3
END:VALARM
END:VCALENDAR
