BEGIN:VCALENDAR
CALSCALE:GREGORIAN
PRODID:-//Ben Fortuna//iCal4j 1.0//EN
VERSION:2.0
BEGIN:VEVENT
DTSTAMP:20260121T160010Z
DTSTART:20260121T102500
DTEND:20260121T122500
SUMMARY:Pre Kindergarten\n\ncontinued\n\nTed Barnett\, Fiscal Analyst\, J
 oint Fiscal Office\n\nMorgan Crossman\, Ph.D.\, Executive Director\, Bui
 lding Bright Futures\n\nJanet McLaughlin\, Deputy Commissioner\, Child D
 evelopment Division\, Department for Children and Families - Room 45
TZID:America/New_York
UID:20260121T160052Z-uidGen@richgoldman-357e73
END:VEVENT
BEGIN:VALARM
TRIGGER:-PT15M
ACTION:DISPLAY
DESCRIPTION:Pre Kindergarten\n\ncontinued\n\nTed Barnett\, Fiscal Analyst
 \, Joint Fiscal Office\n\nMorgan Crossman\, Ph.D.\, Executive Director\,
  Building Bright Futures\n\nJanet McLaughlin\, Deputy Commissioner\, Chi
 ld Development Division\, Department for Children and Families - Room 45
 
END:VALARM
END:VCALENDAR
