BEGIN:VCALENDAR
CALSCALE:GREGORIAN
PRODID:-//Ben Fortuna//iCal4j 1.0//EN
VERSION:2.0
BEGIN:VEVENT
DTSTAMP:20260121T160010Z
DTSTART:20260121T100000
DTEND:20260121T120000
SUMMARY:Governor’s Proposed FY2027 Budget\n\nIndividual member work time 
 - Room 46
TZID:America/New_York
UID:20260121T160032Z-uidGen@richgoldman-357e73
END:VEVENT
BEGIN:VALARM
TRIGGER:-PT15M
ACTION:DISPLAY
DESCRIPTION:Governor’s Proposed FY2027 Budget\n\nIndividual member work t
 ime - Room 46
END:VALARM
END:VCALENDAR
