BEGIN:VCALENDAR
CALSCALE:GREGORIAN
PRODID:-//Ben Fortuna//iCal4j 1.0//EN
VERSION:2.0
BEGIN:VEVENT
DTSTAMP:20260120T190010Z
DTSTART:20260121T100000
DTEND:20260121T120000
SUMMARY:H. 627 - An act relating to crime victims’ rights in forensic cas
 es\n\nWitness Testimony\n\nKelly Carroll\, Voices for Vermont Victims\n\
 nJennifer Poehlmann\, J.D.\, Executive Director\, Center for Crime Victi
 m Services - Room 30
TZID:America/New_York
UID:20260120T190102Z-uidGen@richgoldman-357e73
END:VEVENT
BEGIN:VALARM
TRIGGER:-PT15M
ACTION:DISPLAY
DESCRIPTION:H. 627 - An act relating to crime victims’ rights in forensic
  cases\n\nWitness Testimony\n\nKelly Carroll\, Voices for Vermont Victim
 s\n\nJennifer Poehlmann\, J.D.\, Executive Director\, Center for Crime V
 ictim Services - Room 30
END:VALARM
END:VCALENDAR
