BEGIN:VCALENDAR
CALSCALE:GREGORIAN
PRODID:-//Ben Fortuna//iCal4j 1.0//EN
VERSION:2.0
BEGIN:VEVENT
DTSTAMP:20260120T190010Z
DTSTART:20260121T100000
DTEND:20260121T120000
SUMMARY:S. 23 - An act relating to the use of synthetic media in election
 s\n\nWitness Testimony\n\nSen. Brian Collamore\, Chair\, Senate Committe
 e on Government Operations\n\nRik Sehgal\, Legislative Counsel\, Office 
 of Legislative Counsel - Room M106
TZID:America/New_York
UID:20260120T190100Z-uidGen@richgoldman-357e73
END:VEVENT
BEGIN:VALARM
TRIGGER:-PT15M
ACTION:DISPLAY
DESCRIPTION:S. 23 - An act relating to the use of synthetic media in elec
 tions\n\nWitness Testimony\n\nSen. Brian Collamore\, Chair\, Senate Comm
 ittee on Government Operations\n\nRik Sehgal\, Legislative Counsel\, Off
 ice of Legislative Counsel - Room M106
END:VALARM
END:VCALENDAR
