BEGIN:VCALENDAR
CALSCALE:GREGORIAN
PRODID:-//Ben Fortuna//iCal4j 1.0//EN
VERSION:2.0
BEGIN:VEVENT
DTSTAMP:20260120T190010Z
DTSTART:20260121T100000
DTEND:20260121T120000
SUMMARY:PR.4 - Declaration of rights\; government for the people\; equali
 ty of rights\n\nWitness Testimony\n\nJulio Thompson\, Director\, Civil R
 ights Unit\, Office of the Attorney General\n\nRev. Mark Hughes\, Execut
 ive Director\, Vermont Racial Justice Alliance\n\nCary Brown\, Executive
  Director\, Vermont Commission on Women - Room 1
TZID:America/New_York
UID:20260120T190104Z-uidGen@richgoldman-357e73
END:VEVENT
BEGIN:VALARM
TRIGGER:-PT15M
ACTION:DISPLAY
DESCRIPTION:PR.4 - Declaration of rights\; government for the people\; eq
 uality of rights\n\nWitness Testimony\n\nJulio Thompson\, Director\, Civ
 il Rights Unit\, Office of the Attorney General\n\nRev. Mark Hughes\, Ex
 ecutive Director\, Vermont Racial Justice Alliance\n\nCary Brown\, Execu
 tive Director\, Vermont Commission on Women - Room 1
END:VALARM
END:VCALENDAR
