BEGIN:VCALENDAR
CALSCALE:GREGORIAN
PRODID:-//Ben Fortuna//iCal4j 1.0//EN
VERSION:2.0
BEGIN:VEVENT
DTSTAMP:20260121T160010Z
DTSTART:20260121T101500
DTEND:20260121T121500
SUMMARY:H. 650 - An act relating to educational technology products\n\nIn
 troduction\n\nRep. Angela Arsenault\, Sponsor\, House Committee on Judic
 iary\n\nRep. Edye Graning\, Co-sponsor\, House Committee on Commerce and
  Economic Development - Room 35
TZID:America/New_York
UID:20260121T160045Z-uidGen@richgoldman-357e73
END:VEVENT
BEGIN:VALARM
TRIGGER:-PT15M
ACTION:DISPLAY
DESCRIPTION:H. 650 - An act relating to educational technology products\n
 \nIntroduction\n\nRep. Angela Arsenault\, Sponsor\, House Committee on J
 udiciary\n\nRep. Edye Graning\, Co-sponsor\, House Committee on Commerce
  and Economic Development - Room 35
END:VALARM
END:VCALENDAR
