BEGIN:VCALENDAR
CALSCALE:GREGORIAN
PRODID:-//Ben Fortuna//iCal4j 1.0//EN
VERSION:2.0
BEGIN:VEVENT
DTSTAMP:20260120T210010Z
DTSTART:20260121T110000
DTEND:20260121T130000
SUMMARY:H. 527 - An act relating to extending the sunset of 30 V.S. A. §2
 48a\n\nCommittee Discussion and Mark-up\n\nEllen Czajkowski\, Legislativ
 e Counsel\, Office of Legislative Counsel - Room 32
TZID:America/New_York
UID:20260120T210036Z-uidGen@richgoldman-357e73
END:VEVENT
BEGIN:VALARM
TRIGGER:-PT15M
ACTION:DISPLAY
DESCRIPTION:H. 527 - An act relating to extending the sunset of 30 V.S. A
 . §248a\n\nCommittee Discussion and Mark-up\n\nEllen Czajkowski\, Legisl
 ative Counsel\, Office of Legislative Counsel - Room 32
END:VALARM
END:VCALENDAR
