BEGIN:VCALENDAR
CALSCALE:GREGORIAN
PRODID:-//Ben Fortuna//iCal4j 1.0//EN
VERSION:2.0
BEGIN:VEVENT
DTSTAMP:20260121T150010Z
DTSTART:20260121T103000
DTEND:20260121T123000
SUMMARY:FY26 Budget Adjustment Act\n\nOutpatient hospital-administered dr
 ugs exemption\n\nJennifer Carbee\, Deputy Chief Counsel\, Office of Legi
 slative Counsel - Room 9
TZID:America/New_York
UID:20260121T150037Z-uidGen@richgoldman-357e73
END:VEVENT
BEGIN:VALARM
TRIGGER:-PT15M
ACTION:DISPLAY
DESCRIPTION:FY26 Budget Adjustment Act\n\nOutpatient hospital-administere
 d drugs exemption\n\nJennifer Carbee\, Deputy Chief Counsel\, Office of 
 Legislative Counsel - Room 9
END:VALARM
END:VCALENDAR
