BEGIN:VCALENDAR
CALSCALE:GREGORIAN
PRODID:-//Ben Fortuna//iCal4j 1.0//EN
VERSION:2.0
BEGIN:VEVENT
DTSTAMP:20260121T160010Z
DTSTART:20260121T103000
DTEND:20260121T123000
SUMMARY:Break - Room 49
TZID:America/New_York
UID:20260121T160054Z-uidGen@richgoldman-357e73
END:VEVENT
BEGIN:VALARM
TRIGGER:-PT15M
ACTION:DISPLAY
DESCRIPTION:Break - Room 49
END:VALARM
END:VCALENDAR
