BEGIN:VCALENDAR
CALSCALE:GREGORIAN
PRODID:-//Ben Fortuna//iCal4j 1.0//EN
VERSION:2.0
BEGIN:VEVENT
DTSTAMP:20260121T070010Z
DTSTART:20260121T103000
DTEND:20260121T123000
SUMMARY:H. 602 - An act relating to housing and land use\n\nHousing Overv
 iew\n\nRep. Patricia McCoy\, Sponsor\, Rutland-1\n\nAlex Farrell\, Commi
 ssioner\, Department of Housing and Community Development - Room 31
TZID:America/New_York
UID:20260121T070012Z-uidGen@richgoldman-357e73
END:VEVENT
BEGIN:VALARM
TRIGGER:-PT15M
ACTION:DISPLAY
DESCRIPTION:H. 602 - An act relating to housing and land use\n\nHousing O
 verview\n\nRep. Patricia McCoy\, Sponsor\, Rutland-1\n\nAlex Farrell\, C
 ommissioner\, Department of Housing and Community Development - Room 31
END:VALARM
END:VCALENDAR
