BEGIN:VCALENDAR
CALSCALE:GREGORIAN
PRODID:-//Ben Fortuna//iCal4j 1.0//EN
VERSION:2.0
BEGIN:VEVENT
DTSTAMP:20260121T150010Z
DTSTART:20260121T104500
DTEND:20260121T124500
SUMMARY:Vermont Citizens Advisory Committee on Lake Champlain's Future\n\
 nKarina Dailey\, Chair\, Vermont Citizens Advisory Committee\n\nDenise S
 mith\, Co-Chair\, Vermont Citizens Advisory Committee\n\nAlison Spasyk\,
  Member\, Vermont Citizens Advisory Committee\n\nBreck Bowden\, Vermont 
 Citizens Advisory Committee - Zoom\n\nAndrew Milliken\, Vermont Citizens
  Advisory Committee\n\nBob Fischer\, Water Facility Operator\, Vermont C
 itizens Advisory Committee\n\nLori Fisher\, Member\, Vermont Citizens Ad
 visory Committee - Zoom - Room 28
TZID:America/New_York
UID:20260121T150044Z-uidGen@richgoldman-357e73
END:VEVENT
BEGIN:VALARM
TRIGGER:-PT15M
ACTION:DISPLAY
DESCRIPTION:Vermont Citizens Advisory Committee on Lake Champlain's Futur
 e\n\nKarina Dailey\, Chair\, Vermont Citizens Advisory Committee\n\nDeni
 se Smith\, Co-Chair\, Vermont Citizens Advisory Committee\n\nAlison Spas
 yk\, Member\, Vermont Citizens Advisory Committee\n\nBreck Bowden\, Verm
 ont Citizens Advisory Committee - Zoom\n\nAndrew Milliken\, Vermont Citi
 zens Advisory Committee\n\nBob Fischer\, Water Facility Operator\, Vermo
 nt Citizens Advisory Committee\n\nLori Fisher\, Member\, Vermont Citizen
 s Advisory Committee - Zoom - Room 28
END:VALARM
END:VCALENDAR
