BEGIN:VCALENDAR
CALSCALE:GREGORIAN
PRODID:-//Ben Fortuna//iCal4j 1.0//EN
VERSION:2.0
BEGIN:VEVENT
DTSTAMP:20260120T220010Z
DTSTART:20260121T111500
DTEND:20260121T131500
SUMMARY:Public Transit\n\nUpdate on Public Transit Non-Emergency Medical 
 Transportation Program\, Older Adults and Person's with Disabilities Tra
 nsportation\, Job Access Transportation Program\n\nAaron Frank\, Town Ma
 nager\, Colchester - Room 3
TZID:America/New_York
UID:20260120T220030Z-uidGen@richgoldman-357e73
END:VEVENT
BEGIN:VALARM
TRIGGER:-PT15M
ACTION:DISPLAY
DESCRIPTION:Public Transit\n\nUpdate on Public Transit Non-Emergency Medi
 cal Transportation Program\, Older Adults and Person's with Disabilities
  Transportation\, Job Access Transportation Program\n\nAaron Frank\, Tow
 n Manager\, Colchester - Room 3
END:VALARM
END:VCALENDAR
