BEGIN:VCALENDAR
CALSCALE:GREGORIAN
PRODID:-//Ben Fortuna//iCal4j 1.0//EN
VERSION:2.0
BEGIN:VEVENT
DTSTAMP:20260120T190010Z
DTSTART:20260121T104500
DTEND:20260121T124500
SUMMARY:H. 668 - An act relating to automatic renewal contracts\n\nIntrod
 uction\n\nRep. Gregory "Greg" Burtt\, Sponsor\, House Committee on Agric
 ulture\, Food Resiliency\, and Forestry - Room 35
TZID:America/New_York
UID:20260120T190113Z-uidGen@richgoldman-357e73
END:VEVENT
BEGIN:VALARM
TRIGGER:-PT15M
ACTION:DISPLAY
DESCRIPTION:H. 668 - An act relating to automatic renewal contracts\n\nIn
 troduction\n\nRep. Gregory "Greg" Burtt\, Sponsor\, House Committee on A
 griculture\, Food Resiliency\, and Forestry - Room 35
END:VALARM
END:VCALENDAR
