BEGIN:VCALENDAR
CALSCALE:GREGORIAN
PRODID:-//Ben Fortuna//iCal4j 1.0//EN
VERSION:2.0
BEGIN:VEVENT
DTSTAMP:20260121T170010Z
DTSTART:20260121T104500
DTEND:20260121T124500
SUMMARY:Wood Product Manufacturers report\n\nComments on Report\n\nGwynn 
 Zakov\, Lobbyist\, Vermont Forest Products Association - Room 49
TZID:America/New_York
UID:20260121T170014Z-uidGen@richgoldman-357e73
END:VEVENT
BEGIN:VALARM
TRIGGER:-PT15M
ACTION:DISPLAY
DESCRIPTION:Wood Product Manufacturers report\n\nComments on Report\n\nGw
 ynn Zakov\, Lobbyist\, Vermont Forest Products Association - Room 49
END:VALARM
END:VCALENDAR
