BEGIN:VCALENDAR
CALSCALE:GREGORIAN
PRODID:-//Ben Fortuna//iCal4j 1.0//EN
VERSION:2.0
BEGIN:VEVENT
DTSTAMP:20260120T160010Z
DTSTART:20260121T104500
DTEND:20260121T124500
SUMMARY:S. 206 - An act relating to licensure of early childhood educator
 s by the Office of Professional Regulation\n\nWalkthrough\n\nKatie McLin
 n\, Legislative Counsel\, Office of Legislative Counsel\n\nAly Richards\
 , Chief Executive Officer\, Let's Grow Kids\n\nEmilie Tenenbaum\, Execut
 ive Director\, Let's Grow Kids\n\nShannon Edmonds-Folsom\, Jay Peak Reso
 rt\n\nDanielle Harris\, Senior Director of Youth Development\, YMCA\n\nL
 auren Hibbert\, Deputy Secretary of State\, Secretary of State's Office\
 n\nJen Colin\, Director\, Office of Professional Regulation\, Secretary 
 of State's Office - Room 17
TZID:America/New_York
UID:20260120T160046Z-uidGen@richgoldman-357e73
END:VEVENT
BEGIN:VALARM
TRIGGER:-PT15M
ACTION:DISPLAY
DESCRIPTION:S. 206 - An act relating to licensure of early childhood educ
 ators by the Office of Professional Regulation\n\nWalkthrough\n\nKatie M
 cLinn\, Legislative Counsel\, Office of Legislative Counsel\n\nAly Richa
 rds\, Chief Executive Officer\, Let's Grow Kids\n\nEmilie Tenenbaum\, Ex
 ecutive Director\, Let's Grow Kids\n\nShannon Edmonds-Folsom\, Jay Peak 
 Resort\n\nDanielle Harris\, Senior Director of Youth Development\, YMCA\
 n\nLauren Hibbert\, Deputy Secretary of State\, Secretary of State's Off
 ice\n\nJen Colin\, Director\, Office of Professional Regulation\, Secret
 ary of State's Office - Room 17
END:VALARM
END:VCALENDAR
