BEGIN:VCALENDAR
CALSCALE:GREGORIAN
PRODID:-//Ben Fortuna//iCal4j 1.0//EN
VERSION:2.0
BEGIN:VEVENT
DTSTAMP:20260121T160010Z
DTSTART:20260121T104500
DTEND:20260121T124500
SUMMARY:Vermont Downtown Program\n\nNate Formalarie\, Deputy Commissioner
 \, Agency of Housing and Community Development\n\nCaitlin Corkins\, Tax 
 Credit and Grants Coordinator\, Department of Housing and Community Deve
 lopment\n\nChris Cochran\, Director of Community Planning Revitalization
 \, Department of Housing and Community Development\n\nBen Doyle\, Presid
 ent\, Preservation Trust of Vermont - Room 27
TZID:America/New_York
UID:20260121T160106Z-uidGen@richgoldman-357e73
END:VEVENT
BEGIN:VALARM
TRIGGER:-PT15M
ACTION:DISPLAY
DESCRIPTION:Vermont Downtown Program\n\nNate Formalarie\, Deputy Commissi
 oner\, Agency of Housing and Community Development\n\nCaitlin Corkins\, 
 Tax Credit and Grants Coordinator\, Department of Housing and Community 
 Development\n\nChris Cochran\, Director of Community Planning Revitaliza
 tion\, Department of Housing and Community Development\n\nBen Doyle\, Pr
 esident\, Preservation Trust of Vermont - Room 27
END:VALARM
END:VCALENDAR
