BEGIN:VCALENDAR
CALSCALE:GREGORIAN
PRODID:-//Ben Fortuna//iCal4j 1.0//EN
VERSION:2.0
BEGIN:VEVENT
DTSTAMP:20260121T170010Z
DTSTART:20260121T111500
DTEND:20260121T131500
SUMMARY:Agency of Transportation FY27 Budget Overview\n\nAdministration B
 udget\n\nJayna Morse\, Director\, Finance & Administration Division\, Ag
 ency of Transportation\n\nTodd Eaton\, VT Local Roads Branch Manager\, A
 gency of Transportation\n\nBrad MacAvoy\, Facilities Manager\, Agency of
  Transportation\n\nJoe Flynn\, Secretary\, Agency of Transportation\n\nM
 aureen Parker\, Deputy Director of Finance and Administration\, Agency o
 f Transportation - Room 43
TZID:America/New_York
UID:20260121T170024Z-uidGen@richgoldman-357e73
END:VEVENT
BEGIN:VALARM
TRIGGER:-PT15M
ACTION:DISPLAY
DESCRIPTION:Agency of Transportation FY27 Budget Overview\n\nAdministrati
 on Budget\n\nJayna Morse\, Director\, Finance & Administration Division\
 , Agency of Transportation\n\nTodd Eaton\, VT Local Roads Branch Manager
 \, Agency of Transportation\n\nBrad MacAvoy\, Facilities Manager\, Agenc
 y of Transportation\n\nJoe Flynn\, Secretary\, Agency of Transportation\
 n\nMaureen Parker\, Deputy Director of Finance and Administration\, Agen
 cy of Transportation - Room 43
END:VALARM
END:VCALENDAR
