BEGIN:VCALENDAR
CALSCALE:GREGORIAN
PRODID:-//Ben Fortuna//iCal4j 1.0//EN
VERSION:2.0
BEGIN:VEVENT
DTSTAMP:20260121T210010Z
DTSTART:20260121T111500
DTEND:20260121T131500
SUMMARY:Agency of Transportation FY27 Budget\n\nAdministration Budget\n\n
 Jayna Morse\, Director\, Finance & Administration Division\, Agency of T
 ransportation\n\nTodd Eaton\, VT Local Roads Branch Manager\, Agency of 
 Transportation\n\nBrad MacAvoy\, Facilities Manager\, Agency of Transpor
 tation\n\nJoe Flynn\, Secretary\, Agency of Transportation\n\nMaureen Pa
 rker\, Deputy Director of Finance and Administration\, Agency of Transpo
 rtation - Room 43
TZID:America/New_York
UID:20260121T210012Z-uidGen@richgoldman-357e73
END:VEVENT
BEGIN:VALARM
TRIGGER:-PT15M
ACTION:DISPLAY
DESCRIPTION:Agency of Transportation FY27 Budget\n\nAdministration Budget
 \n\nJayna Morse\, Director\, Finance & Administration Division\, Agency 
 of Transportation\n\nTodd Eaton\, VT Local Roads Branch Manager\, Agency
  of Transportation\n\nBrad MacAvoy\, Facilities Manager\, Agency of Tran
 sportation\n\nJoe Flynn\, Secretary\, Agency of Transportation\n\nMauree
 n Parker\, Deputy Director of Finance and Administration\, Agency of Tra
 nsportation - Room 43
END:VALARM
END:VCALENDAR
