BEGIN:VCALENDAR
CALSCALE:GREGORIAN
PRODID:-//Ben Fortuna//iCal4j 1.0//EN
VERSION:2.0
BEGIN:VEVENT
DTSTAMP:20260120T190010Z
DTSTART:20260121T110000
DTEND:20260121T130000
SUMMARY:H. 674 - An act relating to the creation of the Vermont Sister St
 ate Program\n\nIntroduction\n\nRep. Edye Graning\, Sponsor\, House Commi
 ttee on Commerce and Economic Development - Room 35
TZID:America/New_York
UID:20260120T190117Z-uidGen@richgoldman-357e73
END:VEVENT
BEGIN:VALARM
TRIGGER:-PT15M
ACTION:DISPLAY
DESCRIPTION:H. 674 - An act relating to the creation of the Vermont Siste
 r State Program\n\nIntroduction\n\nRep. Edye Graning\, Sponsor\, House C
 ommittee on Commerce and Economic Development - Room 35
END:VALARM
END:VCALENDAR
