BEGIN:VCALENDAR
CALSCALE:GREGORIAN
PRODID:-//Ben Fortuna//iCal4j 1.0//EN
VERSION:2.0
BEGIN:VEVENT
DTSTAMP:20260121T150010Z
DTSTART:20260121T104500
DTEND:20260121T124500
SUMMARY:25-0991 - An act relating to establishing an extended producer re
 sponsibility program for beverage containers\n\nMatt Chapman\, Director\
 , Waste Management & Prevention Division\, Department of Environmental C
 onservation - Room EA
TZID:America/New_York
UID:20260121T150043Z-uidGen@richgoldman-357e73
END:VEVENT
BEGIN:VALARM
TRIGGER:-PT15M
ACTION:DISPLAY
DESCRIPTION:25-0991 - An act relating to establishing an extended produce
 r responsibility program for beverage containers\n\nMatt Chapman\, Direc
 tor\, Waste Management & Prevention Division\, Department of Environment
 al Conservation - Room EA
END:VALARM
END:VCALENDAR
