BEGIN:VCALENDAR
CALSCALE:GREGORIAN
PRODID:-//Ben Fortuna//iCal4j 1.0//EN
VERSION:2.0
BEGIN:VEVENT
DTSTAMP:20260121T170010Z
DTSTART:20260121T111000
DTEND:20260121T131000
SUMMARY:H. 583 - An act relating to health care financial transactions an
 d clinical decision making\n\nTestimony\n\nMike Fisher\, Chief Health Ca
 re Advocate\, Vermont Legal Aid\n\nSam Peisch\, Health Policy Analyst\, 
 Vermont Legal Aid - Room 42
TZID:America/New_York
UID:20260121T170023Z-uidGen@richgoldman-357e73
END:VEVENT
BEGIN:VALARM
TRIGGER:-PT15M
ACTION:DISPLAY
DESCRIPTION:H. 583 - An act relating to health care financial transaction
 s and clinical decision making\n\nTestimony\n\nMike Fisher\, Chief Healt
 h Care Advocate\, Vermont Legal Aid\n\nSam Peisch\, Health Policy Analys
 t\, Vermont Legal Aid - Room 42
END:VALARM
END:VCALENDAR
