BEGIN:VCALENDAR
CALSCALE:GREGORIAN
PRODID:-//Ben Fortuna//iCal4j 1.0//EN
VERSION:2.0
BEGIN:VEVENT
DTSTAMP:20260120T150010Z
DTSTART:20260121T110000
DTEND:20260121T130000
SUMMARY:H. 627 - An act relating to crime victims’ rights in forensic cas
 es\n\nWitness Testimony\n\nJudge Thomas Zonay\, Chief Superior Judge\, V
 ermont Judiciary - Zoom\n\nKim McManus\, Legislative Attorney\, Departme
 nt of State's Attorneys and Sheriffs - Invited - Room 30
TZID:America/New_York
UID:20260120T150053Z-uidGen@richgoldman-357e73
END:VEVENT
BEGIN:VALARM
TRIGGER:-PT15M
ACTION:DISPLAY
DESCRIPTION:H. 627 - An act relating to crime victims’ rights in forensic
  cases\n\nWitness Testimony\n\nJudge Thomas Zonay\, Chief Superior Judge
 \, Vermont Judiciary - Zoom\n\nKim McManus\, Legislative Attorney\, Depa
 rtment of State's Attorneys and Sheriffs - Invited - Room 30
END:VALARM
END:VCALENDAR
