BEGIN:VCALENDAR
CALSCALE:GREGORIAN
PRODID:-//Ben Fortuna//iCal4j 1.0//EN
VERSION:2.0
BEGIN:VEVENT
DTSTAMP:20260120T190010Z
DTSTART:20260121T110000
DTEND:20260121T130000
SUMMARY:Security Training\n\nThis will not be livestreamed due to sensiti
 ve content\n\nJoe Tremblay\, Officer\, Capitol Police Department\n\nAgat
 ha Kessler\, Sergeant at Arms\, Vermont General Assembly\n\nJohn Poleway
 \, Chief of Capitol Police\, Capitol Police Department - Room M106
TZID:America/New_York
UID:20260120T190119Z-uidGen@richgoldman-357e73
END:VEVENT
BEGIN:VALARM
TRIGGER:-PT15M
ACTION:DISPLAY
DESCRIPTION:Security Training\n\nThis will not be livestreamed due to sen
 sitive content\n\nJoe Tremblay\, Officer\, Capitol Police Department\n\n
 Agatha Kessler\, Sergeant at Arms\, Vermont General Assembly\n\nJohn Pol
 eway\, Chief of Capitol Police\, Capitol Police Department - Room M106
END:VALARM
END:VCALENDAR
