BEGIN:VCALENDAR
CALSCALE:GREGORIAN
PRODID:-//Ben Fortuna//iCal4j 1.0//EN
VERSION:2.0
BEGIN:VEVENT
DTSTAMP:20260120T200010Z
DTSTART:20260121T111500
DTEND:20260121T131500
SUMMARY:H. 706 - An act relating to internet browsers and data selling\n\
 nIntroduction\n\nRep. Monique Priestley\, Sponsor\, House Committee on C
 ommerce and Economic Development - Room 35
TZID:America/New_York
UID:20260120T200038Z-uidGen@richgoldman-357e73
END:VEVENT
BEGIN:VALARM
TRIGGER:-PT15M
ACTION:DISPLAY
DESCRIPTION:H. 706 - An act relating to internet browsers and data sellin
 g\n\nIntroduction\n\nRep. Monique Priestley\, Sponsor\, House Committee 
 on Commerce and Economic Development - Room 35
END:VALARM
END:VCALENDAR
