BEGIN:VCALENDAR
CALSCALE:GREGORIAN
PRODID:-//Ben Fortuna//iCal4j 1.0//EN
VERSION:2.0
BEGIN:VEVENT
DTSTAMP:20260121T160010Z
DTSTART:20260121T111500
DTEND:20260121T131500
SUMMARY:H. 630 - An act relating to adopting minimum security standards f
 or connected devices\n\nIntroduction\n\nRep. Barbara Rachelson\, Sponsor
 \, House Committee on Judiciary - Room 35
TZID:America/New_York
UID:20260121T160108Z-uidGen@richgoldman-357e73
END:VEVENT
BEGIN:VALARM
TRIGGER:-PT15M
ACTION:DISPLAY
DESCRIPTION:H. 630 - An act relating to adopting minimum security standar
 ds for connected devices\n\nIntroduction\n\nRep. Barbara Rachelson\, Spo
 nsor\, House Committee on Judiciary - Room 35
END:VALARM
END:VCALENDAR
