BEGIN:VCALENDAR
CALSCALE:GREGORIAN
PRODID:-//Ben Fortuna//iCal4j 1.0//EN
VERSION:2.0
BEGIN:VEVENT
DTSTAMP:20260120T150010Z
DTSTART:20260121T110000
DTEND:20260121T130000
SUMMARY:H. 276 - An act relating to the designation of State wildlands\n\
 nMichael Kellet\, Executive Director\, Restore the North Woods - Zoom - 
 Room EA
TZID:America/New_York
UID:20260120T150051Z-uidGen@richgoldman-357e73
END:VEVENT
BEGIN:VALARM
TRIGGER:-PT15M
ACTION:DISPLAY
DESCRIPTION:H. 276 - An act relating to the designation of State wildland
 s\n\nMichael Kellet\, Executive Director\, Restore the North Woods - Zoo
 m - Room EA
END:VALARM
END:VCALENDAR
