BEGIN:VCALENDAR
CALSCALE:GREGORIAN
PRODID:-//Ben Fortuna//iCal4j 1.0//EN
VERSION:2.0
BEGIN:VEVENT
DTSTAMP:20260121T200010Z
DTSTART:20260121T110500
DTEND:20260121T130500
SUMMARY:S. 212 - An act relating to potable water supply and wastewater s
 ystem connections\n\nBruce Douglas\, Program Manager\, Department of Env
 ironmental Conservation\n\nHarry Shepard\, Second Vice President GMWEA a
 nd Public Works Director\, Town of Stowe\, Green Mountain Water Environm
 ent Association - Room 8
TZID:America/New_York
UID:20260121T200012Z-uidGen@richgoldman-357e73
END:VEVENT
BEGIN:VALARM
TRIGGER:-PT15M
ACTION:DISPLAY
DESCRIPTION:S. 212 - An act relating to potable water supply and wastewat
 er system connections\n\nBruce Douglas\, Program Manager\, Department of
  Environmental Conservation\n\nHarry Shepard\, Second Vice President GMW
 EA and Public Works Director\, Town of Stowe\, Green Mountain Water Envi
 ronment Association - Room 8
END:VALARM
END:VCALENDAR
