BEGIN:VCALENDAR
CALSCALE:GREGORIAN
PRODID:-//Ben Fortuna//iCal4j 1.0//EN
VERSION:2.0
BEGIN:VEVENT
DTSTAMP:20260121T160010Z
DTSTART:20260121T111500
DTEND:20260121T131500
SUMMARY:S. 183 - An act relating to home improvement and land improvement
  fraud\n\nWalk Through\n\nMichele Childs\, Team Lead Legislative Counsel
 \, Office of Legislative Counsel - Room 1
TZID:America/New_York
UID:20260121T160110Z-uidGen@richgoldman-357e73
END:VEVENT
BEGIN:VALARM
TRIGGER:-PT15M
ACTION:DISPLAY
DESCRIPTION:S. 183 - An act relating to home improvement and land improve
 ment fraud\n\nWalk Through\n\nMichele Childs\, Team Lead Legislative Cou
 nsel\, Office of Legislative Counsel - Room 1
END:VALARM
END:VCALENDAR
