BEGIN:VCALENDAR
CALSCALE:GREGORIAN
PRODID:-//Ben Fortuna//iCal4j 1.0//EN
VERSION:2.0
BEGIN:VEVENT
DTSTAMP:20260120T160010Z
DTSTART:20260121T113000
DTEND:20260121T133000
SUMMARY:S. 26 - An act relating to prohibiting certain artificial dyes in
  foods and beverages served or sold at school\n\nWalkthrough\n\nKatie Mc
 Linn\, Legislative Counsel\, Office of Legislative Counsel\n\nAnna Seube
 rling\, Environmental Advocate\, Vermont Public Interest Research Group\
 n\nScott Faber\, Environmental Working Group - Room 17
TZID:America/New_York
UID:20260120T160049Z-uidGen@richgoldman-357e73
END:VEVENT
BEGIN:VALARM
TRIGGER:-PT15M
ACTION:DISPLAY
DESCRIPTION:S. 26 - An act relating to prohibiting certain artificial dye
 s in foods and beverages served or sold at school\n\nWalkthrough\n\nKati
 e McLinn\, Legislative Counsel\, Office of Legislative Counsel\n\nAnna S
 euberling\, Environmental Advocate\, Vermont Public Interest Research Gr
 oup\n\nScott Faber\, Environmental Working Group - Room 17
END:VALARM
END:VCALENDAR
