BEGIN:VCALENDAR
CALSCALE:GREGORIAN
PRODID:-//Ben Fortuna//iCal4j 1.0//EN
VERSION:2.0
BEGIN:VEVENT
DTSTAMP:20260121T150010Z
DTSTART:20260121T114000
DTEND:20260121T134000
SUMMARY:H. 545 - An act relating to issuing immunization recommendations\
 n\nDrive by\n\nKatie McLinn\, Legislative Counsel\, Office of Legislativ
 e Counsel - Room 9
TZID:America/New_York
UID:20260121T150049Z-uidGen@richgoldman-357e73
END:VEVENT
BEGIN:VALARM
TRIGGER:-PT15M
ACTION:DISPLAY
DESCRIPTION:H. 545 - An act relating to issuing immunization recommendati
 ons\n\nDrive by\n\nKatie McLinn\, Legislative Counsel\, Office of Legisl
 ative Counsel - Room 9
END:VALARM
END:VCALENDAR
