BEGIN:VCALENDAR
CALSCALE:GREGORIAN
PRODID:-//Ben Fortuna//iCal4j 1.0//EN
VERSION:2.0
BEGIN:VEVENT
DTSTAMP:20260121T200010Z
DTSTART:20260121T115000
DTEND:20260121T135000
SUMMARY:H. 545 - An act relating to issuing immunization recommendations\
 n\nDrive by and straw poll\n\nKatie McLinn\, Legislative Counsel\, Offic
 e of Legislative Counsel - Room 9
TZID:America/New_York
UID:20260121T200016Z-uidGen@richgoldman-357e73
END:VEVENT
BEGIN:VALARM
TRIGGER:-PT15M
ACTION:DISPLAY
DESCRIPTION:H. 545 - An act relating to issuing immunization recommendati
 ons\n\nDrive by and straw poll\n\nKatie McLinn\, Legislative Counsel\, O
 ffice of Legislative Counsel - Room 9
END:VALARM
END:VCALENDAR
