BEGIN:VCALENDAR
CALSCALE:GREGORIAN
PRODID:-//Ben Fortuna//iCal4j 1.0//EN
VERSION:2.0
BEGIN:VEVENT
DTSTAMP:20260120T220010Z
DTSTART:20260121T130000
DTEND:20260121T150000
SUMMARY:FY26 Budget Adjustment Act\n\nDepartment for Children and Familie
 s\n\nSandi Hoffman\, Interim Commissioner\, Department for Children and 
 Families\n\nMegan Smeaton\, Financial Director\, Department for Children
  and Families\n\nLily Sojourner\, Director\, Office of Economic Opportun
 ity\, Department for Children and Families - Room 9
TZID:America/New_York
UID:20260120T220032Z-uidGen@richgoldman-357e73
END:VEVENT
BEGIN:VALARM
TRIGGER:-PT15M
ACTION:DISPLAY
DESCRIPTION:FY26 Budget Adjustment Act\n\nDepartment for Children and Fam
 ilies\n\nSandi Hoffman\, Interim Commissioner\, Department for Children 
 and Families\n\nMegan Smeaton\, Financial Director\, Department for Chil
 dren and Families\n\nLily Sojourner\, Director\, Office of Economic Oppo
 rtunity\, Department for Children and Families - Room 9
END:VALARM
END:VCALENDAR
