BEGIN:VCALENDAR
CALSCALE:GREGORIAN
PRODID:-//Ben Fortuna//iCal4j 1.0//EN
VERSION:2.0
BEGIN:VEVENT
DTSTAMP:20260120T150010Z
DTSTART:20260121T130000
DTEND:20260121T150000
SUMMARY:H. 583 - An act relating to health care financial transactions an
 d clinical decision making\n\nTestimony\n\nSusan Ridzon\, Executive Dire
 ctor\, Healthfirst\, Inc. - Invited\n\nGlenn Goldman\, Integrated Dermat
 ology - Zoom - Room 42
TZID:America/New_York
UID:20260120T150056Z-uidGen@richgoldman-357e73
END:VEVENT
BEGIN:VALARM
TRIGGER:-PT15M
ACTION:DISPLAY
DESCRIPTION:H. 583 - An act relating to health care financial transaction
 s and clinical decision making\n\nTestimony\n\nSusan Ridzon\, Executive 
 Director\, Healthfirst\, Inc. - Invited\n\nGlenn Goldman\, Integrated De
 rmatology - Zoom - Room 42
END:VALARM
END:VCALENDAR
